BEGIN:VCALENDAR
VERSION:2.0
PRODID:Events Booking
BEGIN:VEVENT
UID:69ead6a1a4fa4
SUMMARY:May Member Dinner Meeting - Topic: Why People Resist Change (And Wh
 at Actually Works Instead) Featuring: Dr. Jamie English
DESCRIPTION:Join us for our May dinner meeting!&nbsp\;
 Why People Resist 
 Change (and What Actually Works Instead)&nbsp\; 
 Featuring:&nbsp\;Dr. Ja
 mie English&nbsp\;
 
LOCATION:1400 Texas Star Pkwy\, Euless
DTSTART:20260521T230000Z
DTEND:20260522T013000Z
DTSTAMP:20260331T232805Z
ORGANIZER;CN=PMI Chapter:MAILTO:communications@fwpmi.org
END:VEVENT
END:VCALENDAR