BEGIN:VCALENDAR
VERSION:2.0
PRODID:Events Booking
BEGIN:VEVENT
UID:69ead64082339
SUMMARY:May Lunch and Learn - Topic : Mastering the Art of Connection : Fea
 turing Tonya Thomas (Virtual)
DESCRIPTION:Join us for our Virtual May Lunch and Learn!&nbsp\;Lunch &amp\;
  Learn: Mastering the Art of Connection. Featuring Tonya Thomas
DTSTART:20260512T170000Z
DTEND:20260512T180000Z
DTSTAMP:20260331T232413Z
ORGANIZER;CN=PMI Chapter:MAILTO:communications@fwpmi.org
END:VEVENT
END:VCALENDAR