BEGIN:VCALENDAR
VERSION:2.0
PRODID:Events Booking
BEGIN:VEVENT
UID:69ead728dc548
SUMMARY:April Member Dinner Meeting - From Vision to Execution: Creating Se
 amless\, High-Impact Events
DESCRIPTION:
 This session will explore how thoughtful planning\, attentio
 n to detail\, and creative execution come together to produce seamless\, h
 igh-impact events. Attendees will gain actionable strategies for designing
  events that leave a lasting impression on guests while managing logistics
  efficiently.
 
LOCATION:1400 Texas Star Pkwy\, Euless
DTSTART:20260423T230000Z
DTEND:20260424T013000Z
DTSTAMP:20260330T125058Z
ORGANIZER;CN=PMI Chapter:MAILTO:communications@fwpmi.org
END:VEVENT
END:VCALENDAR